BEGIN:VCALENDAR
VERSION:2.0
PRODID:-//Saint Andrew&#039;s Abbey - ECPv6.15.18//NONSGML v1.0//EN
CALSCALE:GREGORIAN
METHOD:PUBLISH
X-WR-CALNAME:Saint Andrew&#039;s Abbey
X-ORIGINAL-URL:https://saintandrewsabbey.com
X-WR-CALDESC:Events for Saint Andrew&#039;s Abbey
REFRESH-INTERVAL;VALUE=DURATION:PT1H
X-Robots-Tag:noindex
X-PUBLISHED-TTL:PT1H
BEGIN:VTIMEZONE
TZID:America/Los_Angeles
BEGIN:DAYLIGHT
TZOFFSETFROM:-0800
TZOFFSETTO:-0700
TZNAME:PDT
DTSTART:20240310T100000
END:DAYLIGHT
BEGIN:STANDARD
TZOFFSETFROM:-0700
TZOFFSETTO:-0800
TZNAME:PST
DTSTART:20241103T090000
END:STANDARD
BEGIN:DAYLIGHT
TZOFFSETFROM:-0800
TZOFFSETTO:-0700
TZNAME:PDT
DTSTART:20250309T100000
END:DAYLIGHT
BEGIN:STANDARD
TZOFFSETFROM:-0700
TZOFFSETTO:-0800
TZNAME:PST
DTSTART:20251102T090000
END:STANDARD
BEGIN:DAYLIGHT
TZOFFSETFROM:-0800
TZOFFSETTO:-0700
TZNAME:PDT
DTSTART:20260308T100000
END:DAYLIGHT
BEGIN:STANDARD
TZOFFSETFROM:-0700
TZOFFSETTO:-0800
TZNAME:PST
DTSTART:20261101T090000
END:STANDARD
END:VTIMEZONE
BEGIN:VEVENT
DTSTART;TZID=America/Los_Angeles:20250614T093000
DTEND;TZID=America/Los_Angeles:20250614T153000
DTSTAMP:20260424T124001
CREATED:20241206T202658Z
LAST-MODIFIED:20250602T163733Z
UID:10000215-1749893400-1749915000@saintandrewsabbey.com
SUMMARY:*CANCELADO* EL ALMA DESPUES DE LA MUERTE
DESCRIPTION:
URL:https://saintandrewsabbey.com/event/el-alma-despues-de-la-muerte/
LOCATION:Saint Andrew’s Abbey\, 31001 N. Valyermo Road\, Valyermo\, CA\, 93563\, United States
ORGANIZER;CN="Saint Andrew's Abbey":MAILTO:retreats@valyermo.com
END:VEVENT
END:VCALENDAR