BEGIN:VCALENDAR
VERSION:2.0
PRODID:-//Saint Andrew&#039;s Abbey - ECPv6.15.18//NONSGML v1.0//EN
CALSCALE:GREGORIAN
METHOD:PUBLISH
X-WR-CALNAME:Saint Andrew&#039;s Abbey
X-ORIGINAL-URL:https://saintandrewsabbey.com
X-WR-CALDESC:Events for Saint Andrew&#039;s Abbey
REFRESH-INTERVAL;VALUE=DURATION:PT1H
X-Robots-Tag:noindex
X-PUBLISHED-TTL:PT1H
BEGIN:VTIMEZONE
TZID:America/Los_Angeles
BEGIN:DAYLIGHT
TZOFFSETFROM:-0800
TZOFFSETTO:-0700
TZNAME:PDT
DTSTART:20240310T100000
END:DAYLIGHT
BEGIN:STANDARD
TZOFFSETFROM:-0700
TZOFFSETTO:-0800
TZNAME:PST
DTSTART:20241103T090000
END:STANDARD
BEGIN:DAYLIGHT
TZOFFSETFROM:-0800
TZOFFSETTO:-0700
TZNAME:PDT
DTSTART:20250309T100000
END:DAYLIGHT
BEGIN:STANDARD
TZOFFSETFROM:-0700
TZOFFSETTO:-0800
TZNAME:PST
DTSTART:20251102T090000
END:STANDARD
BEGIN:DAYLIGHT
TZOFFSETFROM:-0800
TZOFFSETTO:-0700
TZNAME:PDT
DTSTART:20260308T100000
END:DAYLIGHT
BEGIN:STANDARD
TZOFFSETFROM:-0700
TZOFFSETTO:-0800
TZNAME:PST
DTSTART:20261101T090000
END:STANDARD
END:VTIMEZONE
BEGIN:VEVENT
DTSTART;TZID=America/Los_Angeles:20250606T150000
DTEND;TZID=America/Los_Angeles:20250608T100000
DTSTAMP:20260424T101327
CREATED:20241130T195303Z
LAST-MODIFIED:20250424T180150Z
UID:10000182-1749222000-1749376800@saintandrewsabbey.com
SUMMARY:PENTECOST RETREAT - Sold Out
DESCRIPTION:This preached retreat is for the oblates of St. Andrew’s Abbey or anyone interested in Benedictine spirituality. The focus is the Rule of St. Benedict and the liturgy of Pentecost. \n  \nPresenters: Monks of Valyermo \n  \n*If the event is listed as sold out please call us at 661-944-2178 for real time availability and waiting list.
URL:https://saintandrewsabbey.com/event/pentecost-retreat-3/
LOCATION:Saint Andrew’s Abbey\, 31001 N. Valyermo Road\, Valyermo\, CA\, 93563\, United States
ORGANIZER;CN="Saint Andrew's Abbey":MAILTO:retreats@valyermo.com
END:VEVENT
BEGIN:VEVENT
DTSTART;TZID=America/Los_Angeles:20250614T093000
DTEND;TZID=America/Los_Angeles:20250614T153000
DTSTAMP:20260424T101327
CREATED:20241206T202658Z
LAST-MODIFIED:20250602T163733Z
UID:10000215-1749893400-1749915000@saintandrewsabbey.com
SUMMARY:*CANCELADO* EL ALMA DESPUES DE LA MUERTE
DESCRIPTION:
URL:https://saintandrewsabbey.com/event/el-alma-despues-de-la-muerte/
LOCATION:Saint Andrew’s Abbey\, 31001 N. Valyermo Road\, Valyermo\, CA\, 93563\, United States
ORGANIZER;CN="Saint Andrew's Abbey":MAILTO:retreats@valyermo.com
END:VEVENT
BEGIN:VEVENT
DTSTART;TZID=America/Los_Angeles:20250625T150000
DTEND;TZID=America/Los_Angeles:20250627T100000
DTSTAMP:20260424T101327
CREATED:20241130T195704Z
LAST-MODIFIED:20250517T163830Z
UID:10000183-1750863600-1751018400@saintandrewsabbey.com
SUMMARY:DISCOVERING C. S. LEWIS’S LIBRARY:  The Enchanting and Sacramental Role of Books (Zoom Option)
DESCRIPTION:Imagine standing in C. S. Lewis’s personal library as he tells how books enlarged his vision\, captured his imagination\, and pointed him to Christ. In this workshop\, Lewis’s story and the growth of his library are traced\, beginning with his first book and early collecting through his academic and writing career\, until his library is dispersed near his death. These accounts\, combined with Lewis’s views on reading and literature\, invite participants to discover the numinous in books\, learn through the eyes of others\, and experience the same deep joy of seeing God in all of life. \n  \nPresenter: DR. ROGER WHITE is Professor Emeritus at Azusa Pacific University where he taught in the College of Education\, Seminary\, and Honors College. He was founding curator of the C. S. Lewis and Inklings Collection in the University’s Rare Books Department. Additionally\, White served as lead editor for the book\, C. S. Lewis and His Circle: Essays and Memoirs from the Oxford C. S. Lewis Society (Oxford University Press\, 2015) and is currently completing a book about rediscovering C. S. Lewis’s library. \n  \n*If the event is listed as sold out please call us at 661-944-2178 for real time availability and waiting list.
URL:https://saintandrewsabbey.com/event/discovering-c-s-lewiss-library-the-enchanting-and-sacramental-role-of-books/
LOCATION:Saint Andrew’s Abbey\, 31001 N. Valyermo Road\, Valyermo\, CA\, 93563\, United States
ORGANIZER;CN="Saint Andrew's Abbey":MAILTO:retreats@valyermo.com
END:VEVENT
BEGIN:VEVENT
DTSTART;TZID=America/Los_Angeles:20250627T150000
DTEND;TZID=America/Los_Angeles:20250629T100000
DTSTAMP:20260424T101327
CREATED:20241130T200412Z
LAST-MODIFIED:20250623T231446Z
UID:10000184-1751036400-1751191200@saintandrewsabbey.com
SUMMARY:WHO AM I? Meeting the Self in the in the Prodigal Son
DESCRIPTION:St. Luke\, Rembrandt\, and Henri Nouwen are our human guides as we examine and discern the different spiritual states revealed in Holy Scripture’s parable of The Prodigal Son. Art\, writing\, and personal experience combine to help us realize the broader implications of this narrative and how they apply to our lives. Careful attention to art\, close reading of texts\, personal reflection\, and discussion will form the basis of this retreat. \n  \nPresenters: Reese Landi\, Obl.OSB & Mary Kauffman\, Obl.OSB \n  \nREESE LANDI is an Oblate of Valyermo. She is a nurse and an artist. Reese completed her Art of Spiritual Direction through LMU and has enjoyed using art to enhance one’s understanding of scripture. Reese is certified in Art for Healing through Brandman University and has worked with a non-profit to practice art therapy.\nMARY KAUFFMAN is an oblate of Valyermo.  She has an MA in English and has taught ESL\, various levels of English and writing\, and literature courses at several colleges in the Los Angeles and Orange County areas.  Now retired\, she enjoys sharing her love of reading and writing through participation in different reading and literary groups\, particularly those with an emphasis on discovering the transcendent and increasing our Christian awareness through exploration of the written word. \n  \n*If the event is listed as sold out\, please call us at 661-944-2178 for real-time availability and waiting list.
URL:https://saintandrewsabbey.com/event/who-am-i-meeting-the-self-in-the-in-the-prodigal-son/
LOCATION:Saint Andrew’s Abbey\, 31001 N. Valyermo Road\, Valyermo\, CA\, 93563\, United States
ORGANIZER;CN="Saint Andrew's Abbey":MAILTO:retreats@valyermo.com
END:VEVENT
BEGIN:VEVENT
DTSTART;TZID=America/Los_Angeles:20250630T150000
DTEND;TZID=America/Los_Angeles:20250706T100000
DTSTAMP:20260424T101327
CREATED:20241130T200738Z
LAST-MODIFIED:20250626T175935Z
UID:10000185-1751295600-1751796000@saintandrewsabbey.com
SUMMARY:ICONOGRAPHY
DESCRIPTION:This intensive icon painting workshop will provide an opportunity to experience the process of icon painting. Participants will learn traditional iconographic techniques\, working with egg tempera on gesso and the Byzantine four-color (tetrachrome) palette. This practical instruction will be combined with theoretical instruction in the history of iconography\, iconographic composition\, and the theology of icons. Each participant will work on an icon and take the completed icon home. No experience is necessary. The instructor will provide all supplies and materials. \n  \nPresenter: A native of Ukraine\, VICTORIA BRENNAN holds a doctorate in Eastern Ecclesiastical Studies from the Pontifical Oriental Institute in Rome. Her areas of specialization include Theology of Icons\, Byzantine Art and Architecture\, Byzantine Spirituality\, and Medieval Illuminated Manuscripts. She has taught courses in theology and art at the Ukrainian Catholic University in Lviv\, Ukraine\, and St. John’s Seminary in Camarillo where she currently works. In addition to her theological and academic study of Byzantine Sacred Art\, Victoria pursues her love of this tradition as an iconographer. \n  \n*If the event is listed as sold out please call us at 661-944-2178 for real time availability and waiting list.
URL:https://saintandrewsabbey.com/event/iconography-3/
LOCATION:Saint Andrew’s Abbey\, 31001 N. Valyermo Road\, Valyermo\, CA\, 93563\, United States
ORGANIZER;CN="Saint Andrew's Abbey":MAILTO:retreats@valyermo.com
END:VEVENT
END:VCALENDAR